BEGIN:VCALENDAR
VERSION:2.0
PRODID:-//grænge beboerforening - ECPv5.3.1//NONSGML v1.0//EN
CALSCALE:GREGORIAN
METHOD:PUBLISH
X-WR-CALNAME:grænge beboerforening
X-ORIGINAL-URL:http://graenge-beboerforening.dk
X-WR-CALDESC:Events for grænge beboerforening
BEGIN:VTIMEZONE
TZID:Europe/Copenhagen
BEGIN:DAYLIGHT
TZOFFSETFROM:+0100
TZOFFSETTO:+0200
TZNAME:CEST
DTSTART:20180325T010000
END:DAYLIGHT
BEGIN:STANDARD
TZOFFSETFROM:+0200
TZOFFSETTO:+0100
TZNAME:CET
DTSTART:20181028T010000
END:STANDARD
END:VTIMEZONE
BEGIN:VEVENT
DTSTART;TZID=Europe/Copenhagen:20180927T170000
DTEND;TZID=Europe/Copenhagen:20180927T213000
DTSTAMP:20260422T152120
CREATED:20180113T083759Z
LAST-MODIFIED:20180113T083805Z
UID:594-1538067600-1538083800@graenge-beboerforening.dk
SUMMARY:Madklub
DESCRIPTION:Mogens Hansen
URL:http://graenge-beboerforening.dk/event/madklub-3/
END:VEVENT
END:VCALENDAR