BEGIN:VCALENDAR
VERSION:2.0
PRODID:-//grænge beboerforening - ECPv5.3.1//NONSGML v1.0//EN
CALSCALE:GREGORIAN
METHOD:PUBLISH
X-WR-CALNAME:grænge beboerforening
X-ORIGINAL-URL:http://graenge-beboerforening.dk
X-WR-CALDESC:Events for grænge beboerforening
BEGIN:VTIMEZONE
TZID:Europe/Copenhagen
BEGIN:DAYLIGHT
TZOFFSETFROM:+0100
TZOFFSETTO:+0200
TZNAME:CEST
DTSTART:20210328T010000
END:DAYLIGHT
BEGIN:STANDARD
TZOFFSETFROM:+0200
TZOFFSETTO:+0100
TZNAME:CET
DTSTART:20211031T010000
END:STANDARD
END:VTIMEZONE
BEGIN:VEVENT
DTSTART;VALUE=DATE:20211015
DTEND;VALUE=DATE:20211018
DTSTAMP:20260423T080539
CREATED:20210731T120756Z
LAST-MODIFIED:20210731T120804Z
UID:2376-1634256000-1634515199@graenge-beboerforening.dk
SUMMARY:Udlejet
DESCRIPTION:C Pedersen
URL:http://graenge-beboerforening.dk/event/udlejet-118/
END:VEVENT
END:VCALENDAR