BEGIN:VCALENDAR
VERSION:2.0
PRODID:-//grænge beboerforening - ECPv5.3.1//NONSGML v1.0//EN
CALSCALE:GREGORIAN
METHOD:PUBLISH
X-WR-CALNAME:grænge beboerforening
X-ORIGINAL-URL:http://graenge-beboerforening.dk
X-WR-CALDESC:Events for grænge beboerforening
BEGIN:VTIMEZONE
TZID:Europe/Copenhagen
BEGIN:DAYLIGHT
TZOFFSETFROM:+0100
TZOFFSETTO:+0200
TZNAME:CEST
DTSTART:20180325T010000
END:DAYLIGHT
BEGIN:STANDARD
TZOFFSETFROM:+0200
TZOFFSETTO:+0100
TZNAME:CET
DTSTART:20181028T010000
END:STANDARD
END:VTIMEZONE
BEGIN:VEVENT
DTSTART;VALUE=DATE:20180426
DTEND;VALUE=DATE:20180429
DTSTAMP:20260423T234239
CREATED:20180118T121517Z
LAST-MODIFIED:20180118T121522Z
UID:646-1524700800-1524959999@graenge-beboerforening.dk
SUMMARY:Udlejet
DESCRIPTION:E. Jørgensen
URL:http://graenge-beboerforening.dk/event/udlejet-12/
END:VEVENT
END:VCALENDAR