BEGIN:VCALENDAR
VERSION:2.0
PRODID:-//grænge beboerforening - ECPv5.3.1//NONSGML v1.0//EN
CALSCALE:GREGORIAN
METHOD:PUBLISH
X-WR-CALNAME:grænge beboerforening
X-ORIGINAL-URL:http://graenge-beboerforening.dk
X-WR-CALDESC:Events for grænge beboerforening
BEGIN:VTIMEZONE
TZID:Europe/Copenhagen
BEGIN:DAYLIGHT
TZOFFSETFROM:+0100
TZOFFSETTO:+0200
TZNAME:CEST
DTSTART:20220327T010000
END:DAYLIGHT
BEGIN:STANDARD
TZOFFSETFROM:+0200
TZOFFSETTO:+0100
TZNAME:CET
DTSTART:20221030T010000
END:STANDARD
END:VTIMEZONE
BEGIN:VEVENT
DTSTART;VALUE=DATE:20220809
DTEND;VALUE=DATE:20220810
DTSTAMP:20260422T175230
CREATED:20220621T160932Z
LAST-MODIFIED:20220621T160939Z
UID:2595-1660003200-1660089599@graenge-beboerforening.dk
SUMMARY:Udlejet
DESCRIPTION:Pensionistforening
URL:http://graenge-beboerforening.dk/event/udlejet-158/
END:VEVENT
END:VCALENDAR